BEGIN:VCALENDAR
VERSION:2.0
PRODID:-//Toronto Speed Skating Club - ECPv6.15.20//NONSGML v1.0//EN
CALSCALE:GREGORIAN
METHOD:PUBLISH
X-WR-CALNAME:Toronto Speed Skating Club
X-ORIGINAL-URL:https://torontospeedskating.org
X-WR-CALDESC:Events for Toronto Speed Skating Club
REFRESH-INTERVAL;VALUE=DURATION:PT1H
X-Robots-Tag:noindex
X-PUBLISHED-TTL:PT1H
BEGIN:VTIMEZONE
TZID:America/Toronto
BEGIN:DAYLIGHT
TZOFFSETFROM:-0500
TZOFFSETTO:-0400
TZNAME:EDT
DTSTART:20240310T070000
END:DAYLIGHT
BEGIN:STANDARD
TZOFFSETFROM:-0400
TZOFFSETTO:-0500
TZNAME:EST
DTSTART:20241103T060000
END:STANDARD
BEGIN:DAYLIGHT
TZOFFSETFROM:-0500
TZOFFSETTO:-0400
TZNAME:EDT
DTSTART:20250309T070000
END:DAYLIGHT
BEGIN:STANDARD
TZOFFSETFROM:-0400
TZOFFSETTO:-0500
TZNAME:EST
DTSTART:20251102T060000
END:STANDARD
BEGIN:DAYLIGHT
TZOFFSETFROM:-0500
TZOFFSETTO:-0400
TZNAME:EDT
DTSTART:20260308T070000
END:DAYLIGHT
BEGIN:STANDARD
TZOFFSETFROM:-0400
TZOFFSETTO:-0500
TZNAME:EST
DTSTART:20261101T060000
END:STANDARD
END:VTIMEZONE
BEGIN:VEVENT
DTSTART;VALUE=DATE:20251016
DTEND;VALUE=DATE:20251020
DTSTAMP:20260421T085302
CREATED:20250731T165228Z
LAST-MODIFIED:20250731T165228Z
UID:10000437-1760572800-1760918399@torontospeedskating.org
SUMMARY:ISU World ST Tour - Montreal
DESCRIPTION:
URL:https://torontospeedskating.org/event/isu-world-st-tour-montreal-2
LOCATION:Montreal\, 2800 Rue Viau\, Montreal\, Montreal\, Quebec\, Canada
CATEGORIES:ISU
GEO:45.5622861;-73.5474508
X-APPLE-STRUCTURED-LOCATION;VALUE=URI;X-ADDRESS=Montreal 2800 Rue Viau Montreal Montreal Quebec Canada;X-APPLE-RADIUS=500;X-TITLE=2800 Rue Viau\, Montreal:geo:-73.5474508,45.5622861
END:VEVENT
BEGIN:VEVENT
DTSTART;VALUE=DATE:20251018
DTEND;VALUE=DATE:20251019
DTSTAMP:20260421T085302
CREATED:20250731T165441Z
LAST-MODIFIED:20251009T135407Z
UID:10000438-1760745600-1760831999@torontospeedskating.org
SUMMARY:Single Distance #2- KW
DESCRIPTION:
URL:https://torontospeedskating.org/event/sso-single-distance-kw
LOCATION:ON
CATEGORIES:Elite Meet
END:VEVENT
BEGIN:VEVENT
DTSTART;VALUE=DATE:20251018
DTEND;VALUE=DATE:20251019
DTSTAMP:20260421T085302
CREATED:20250731T165641Z
LAST-MODIFIED:20251009T135454Z
UID:10000439-1760745600-1760831999@torontospeedskating.org
SUMMARY:Provinical West #1 - KW
DESCRIPTION:
URL:https://torontospeedskating.org/event/sso-provinical-west-1-kw
LOCATION:ON
CATEGORIES:Provincial Meet
END:VEVENT
BEGIN:VEVENT
DTSTART;TZID=America/Toronto:20251018T130000
DTEND;TZID=America/Toronto:20251018T143000
DTSTAMP:20260421T085302
CREATED:20251009T124144Z
LAST-MODIFIED:20251017T133656Z
UID:10000649-1760792400-1760797800@torontospeedskating.org
SUMMARY:CANCELLED - Makeup session - 3C\, 5
DESCRIPTION:Beginner Youth (5) \nEmerging Youth (3C) \n 
URL:https://torontospeedskating.org/event/3c-5-itss-youth-skating-4-2
LOCATION:Commander Park Arena\, 140 Commander Blvd\, Scarborough\, ON\, M1S 3H7\, Canada
CATEGORIES:Training Session
GEO:43.794903;-79.268616
X-APPLE-STRUCTURED-LOCATION;VALUE=URI;X-ADDRESS=Commander Park Arena 140 Commander Blvd Scarborough ON M1S 3H7 Canada;X-APPLE-RADIUS=500;X-TITLE=140 Commander Blvd:geo:-79.268616,43.794903
END:VEVENT
BEGIN:VEVENT
DTSTART;TZID=America/Toronto:20251018T143000
DTEND;TZID=America/Toronto:20251018T160000
DTSTAMP:20260421T085302
CREATED:20251009T124243Z
LAST-MODIFIED:20251017T133718Z
UID:10000672-1760797800-1760803200@torontospeedskating.org
SUMMARY:CANCELLED - Makeup session - Groups 1\,2\,3A\,4&6
DESCRIPTION:Beginner/Intermediate Adults (6) \nAdvanced Adults (4) \nIntermediate Youth (2) \nAdvanced Youth (1) \n 
URL:https://torontospeedskating.org/event/skating-groups-tbd-2
LOCATION:Commander Park Arena\, 140 Commander Blvd\, Scarborough\, ON\, M1S 3H7\, Canada
CATEGORIES:Training Session
GEO:43.794903;-79.268616
X-APPLE-STRUCTURED-LOCATION;VALUE=URI;X-ADDRESS=Commander Park Arena 140 Commander Blvd Scarborough ON M1S 3H7 Canada;X-APPLE-RADIUS=500;X-TITLE=140 Commander Blvd:geo:-79.268616,43.794903
END:VEVENT
END:VCALENDAR