BEGIN:VCALENDAR
VERSION:2.0
PRODID:-//Toronto Speed Skating Club - ECPv6.15.20//NONSGML v1.0//EN
CALSCALE:GREGORIAN
METHOD:PUBLISH
X-ORIGINAL-URL:https://torontospeedskating.org
X-WR-CALDESC:Events for Toronto Speed Skating Club
REFRESH-INTERVAL;VALUE=DURATION:PT1H
X-Robots-Tag:noindex
X-PUBLISHED-TTL:PT1H
BEGIN:VTIMEZONE
TZID:America/Toronto
BEGIN:DAYLIGHT
TZOFFSETFROM:-0500
TZOFFSETTO:-0400
TZNAME:EDT
DTSTART:20240310T070000
END:DAYLIGHT
BEGIN:STANDARD
TZOFFSETFROM:-0400
TZOFFSETTO:-0500
TZNAME:EST
DTSTART:20241103T060000
END:STANDARD
BEGIN:DAYLIGHT
TZOFFSETFROM:-0500
TZOFFSETTO:-0400
TZNAME:EDT
DTSTART:20250309T070000
END:DAYLIGHT
BEGIN:STANDARD
TZOFFSETFROM:-0400
TZOFFSETTO:-0500
TZNAME:EST
DTSTART:20251102T060000
END:STANDARD
BEGIN:DAYLIGHT
TZOFFSETFROM:-0500
TZOFFSETTO:-0400
TZNAME:EDT
DTSTART:20260308T070000
END:DAYLIGHT
BEGIN:STANDARD
TZOFFSETFROM:-0400
TZOFFSETTO:-0500
TZNAME:EST
DTSTART:20261101T060000
END:STANDARD
END:VTIMEZONE
BEGIN:VEVENT
DTSTART;TZID=America/Toronto:20250301T133000
DTEND;TZID=America/Toronto:20250301T160000
DTSTAMP:20260421T073143
CREATED:20241203T010915Z
LAST-MODIFIED:20241203T010915Z
UID:10000375-1740835800-1740844800@torontospeedskating.org
SUMMARY:Provincial Skaters Small Group Training
DESCRIPTION:
URL:https://torontospeedskating.org/event/provincial-skaters-small-group-training/2025-03-01
LOCATION:Commander Park Arena\, 140 Commander Blvd\, Scarborough\, ON\, M1S 3H7\, Canada
CATEGORIES:Training Session
GEO:43.794903;-79.268616
X-APPLE-STRUCTURED-LOCATION;VALUE=URI;X-ADDRESS=Commander Park Arena 140 Commander Blvd Scarborough ON M1S 3H7 Canada;X-APPLE-RADIUS=500;X-TITLE=140 Commander Blvd:geo:-79.268616,43.794903
END:VEVENT
END:VCALENDAR